BEGIN:VCALENDAR
VERSION:2.0
PRODID:-//https://naturfreundejugend-berlin.de//Kirby Calendar Plugin// 
METHOD:PUBLISH
BEGIN:VEVENT
DTSTART:20260509T110000Z
DURATION:PT2H
SUMMARY:[NFJ Berlin] Lesbische Sichtbarkeit - Lesbische Geschichte(n) im Wandel…
DESCRIPTION:Lesben waren in der Geschichte häufig unsichtbar. Eine Unsichtbarkeit, die sie einerseits vor Verfolgung schützen konnte, andererseits jedoch zur Folge hatte, dass ihre Lebensrealitäten, Beziehungen und Beiträge lange übersehen oder ausgelöscht wurden. Dass diese Unsichtbarkeit bis heute anhält, ist nicht zufällig, sondern Ausdruck patriarchaler Strukturen, in denen weibliche Sexualität oft nur in Bezug auf Männer gedacht wird und lesbische Lebensrealitäten dadurch an den Rand gedrängt werden. In diesem W…
LOCATION:NFJ-Laden Weichselstraße 13, Berlin Neukölln  
URL:https://naturfreundejugend-berlin.de/termine/lesbische-sichtbarkeit
END:VEVENT
END:VCALENDAR