BEGIN:VCALENDAR
VERSION:2.0
PRODID:-//https://naturfreundejugend-berlin.de//Kirby Calendar Plugin// 
METHOD:PUBLISH
BEGIN:VEVENT
DTSTART:
DURATION:PT2H
SUMMARY:[NFJ Berlin] Herrschaftskritisches Sommercamp 2026
DESCRIPTION:
LOCATION:   
URL:https://naturfreundejugend-berlin.de/termine/herrschaftskritisches-sommercamp-2026
END:VEVENT
END:VCALENDAR