BEGIN:VCALENDAR
VERSION:2.0
PRODID:-//https://naturfreundejugend-berlin.de//Kirby Calendar Plugin// 
METHOD:PUBLISH
BEGIN:VEVENT
DTSTART:
DURATION:PT2H
SUMMARY:[NFJ Berlin] Einstieg in die antifaschistische Praxis
DESCRIPTION:
LOCATION:   
URL:https://naturfreundejugend-berlin.de/termine/antifaschistische-praxis
END:VEVENT
END:VCALENDAR